1.0000000000
0.0000000000
0.0000000000
-1.0000000000
509946.5000000000
4719494.5000000000
