1.0000000000
0.0000000000
0.0000000000
-1.0000000000
515086.5000000000
4712567.5000000000
