1.0000000000
0.0000000000
0.0000000000
-1.0000000000
509956.5000000000
4712554.5000000000
