1.0000000000
0.0000000000
0.0000000000
-1.0000000000
525321.5000000000
4719545.5000000000
