1.0000000000
0.0000000000
0.0000000000
-1.0000000000
520196.5000000000
4719524.5000000000
