1.0000000000
0.0000000000
0.0000000000
-1.0000000000
525347.5000000000
4712605.5000000000
