1.0000000000
0.0000000000
0.0000000000
-1.0000000000
520217.5000000000
4712584.5000000000
