1.0000000000
0.0000000000
0.0000000000
-1.0000000000
535572.5000000000
4719598.5000000000
