1.0000000000
0.0000000000
0.0000000000
-1.0000000000
530446.5000000000
4719569.5000000000
