1.0000000000
0.0000000000
0.0000000000
-1.0000000000
535607.5000000000
4712658.5000000000
