1.0000000000
0.0000000000
0.0000000000
-1.0000000000
423204.5000000000
4761545.5000000000
