1.0000000000
0.0000000000
0.0000000000
-1.0000000000
418104.5000000000
4761603.5000000000
