1.0000000000
0.0000000000
0.0000000000
-1.0000000000
423126.5000000000
4754604.5000000000
