1.0000000000
0.0000000000
0.0000000000
-1.0000000000
418022.5000000000
4754663.5000000000
