1.0000000000
0.0000000000
0.0000000000
-1.0000000000
433403.5000000000
4761439.5000000000
