1.0000000000
0.0000000000
0.0000000000
-1.0000000000
428303.5000000000
4761490.5000000000
