1.0000000000
0.0000000000
0.0000000000
-1.0000000000
433336.5000000000
4754498.5000000000
