1.0000000000
0.0000000000
0.0000000000
-1.0000000000
443602.5000000000
4761348.5000000000
