1.0000000000
0.0000000000
0.0000000000
-1.0000000000
438502.5000000000
4761391.5000000000
