1.0000000000
0.0000000000
0.0000000000
-1.0000000000
443545.5000000000
4754407.5000000000
