1.0000000000
0.0000000000
0.0000000000
-1.0000000000
438440.5000000000
4754451.5000000000
