1.0000000000
0.0000000000
0.0000000000
-1.0000000000
453801.5000000000
4761272.5000000000
