1.0000000000
0.0000000000
0.0000000000
-1.0000000000
448701.5000000000
4761308.5000000000
