1.0000000000
0.0000000000
0.0000000000
-1.0000000000
448650.5000000000
4754367.5000000000
