1.0000000000
0.0000000000
0.0000000000
-1.0000000000
463999.5000000000
4761211.5000000000
