1.0000000000
0.0000000000
0.0000000000
-1.0000000000
458859.5000000000
4754299.5000000000
