1.0000000000
0.0000000000
0.0000000000
-1.0000000000
469099.5000000000
4761187.5000000000
