1.0000000000
0.0000000000
0.0000000000
-1.0000000000
474173.5000000000
4754225.5000000000
