1.0000000000
0.0000000000
0.0000000000
-1.0000000000
469068.5000000000
4754246.5000000000
