1.0000000000
0.0000000000
0.0000000000
-1.0000000000
484397.5000000000
4761135.5000000000
