1.0000000000
0.0000000000
0.0000000000
-1.0000000000
479298.5000000000
4761149.5000000000
