1.0000000000
0.0000000000
0.0000000000
-1.0000000000
484382.5000000000
4754195.5000000000
