1.0000000000
0.0000000000
0.0000000000
-1.0000000000
494591.5000000000
4754180.5000000000
