1.0000000000
0.0000000000
0.0000000000
-1.0000000000
489486.5000000000
4754185.5000000000
