1.0000000000
0.0000000000
0.0000000000
-1.0000000000
422972.5000000000
4740723.5000000000
