1.0000000000
0.0000000000
0.0000000000
-1.0000000000
433269.5000000000
4747558.5000000000
