1.0000000000
0.0000000000
0.0000000000
-1.0000000000
428087.5000000000
4740668.5000000000
