1.0000000000
0.0000000000
0.0000000000
-1.0000000000
443488.5000000000
4747467.5000000000
