1.0000000000
0.0000000000
0.0000000000
-1.0000000000
438379.5000000000
4747510.5000000000
