1.0000000000
0.0000000000
0.0000000000
-1.0000000000
443432.5000000000
4740526.5000000000
