1.0000000000
0.0000000000
0.0000000000
-1.0000000000
453708.5000000000
4747391.5000000000
