1.0000000000
0.0000000000
0.0000000000
-1.0000000000
453662.5000000000
4740450.5000000000
