1.0000000000
0.0000000000
0.0000000000
-1.0000000000
463927.5000000000
4747330.5000000000
