1.0000000000
0.0000000000
0.0000000000
-1.0000000000
458818.5000000000
4747359.5000000000
