1.0000000000
0.0000000000
0.0000000000
-1.0000000000
463891.5000000000
4740390.5000000000
