1.0000000000
0.0000000000
0.0000000000
-1.0000000000
474147.5000000000
4747285.5000000000
