1.0000000000
0.0000000000
0.0000000000
-1.0000000000
469037.5000000000
4747306.5000000000
