1.0000000000
0.0000000000
0.0000000000
-1.0000000000
479257.5000000000
4747268.5000000000
