1.0000000000
0.0000000000
0.0000000000
-1.0000000000
479236.5000000000
4740327.5000000000
