1.0000000000
0.0000000000
0.0000000000
-1.0000000000
494581.5000000000
4740299.5000000000
